BEGIN:VCALENDAR
VERSION:2.0
PRODID:-//CEMTA - ECPv6.10.0//NONSGML v1.0//EN
CALSCALE:GREGORIAN
METHOD:PUBLISH
X-ORIGINAL-URL:https://cemta.uep.edu.py
X-WR-CALDESC:Eventos para CEMTA
REFRESH-INTERVAL;VALUE=DURATION:PT1H
X-Robots-Tag:noindex
X-PUBLISHED-TTL:PT1H
BEGIN:VTIMEZONE
TZID:America/Asuncion
BEGIN:STANDARD
TZOFFSETFROM:-0300
TZOFFSETTO:-0400
TZNAME:-04
DTSTART:20240324T030000
END:STANDARD
BEGIN:DAYLIGHT
TZOFFSETFROM:-0400
TZOFFSETTO:-0300
TZNAME:-03
DTSTART:20241006T040000
END:DAYLIGHT
BEGIN:STANDARD
TZOFFSETFROM:-0300
TZOFFSETTO:-0300
TZNAME:-03
DTSTART:20241015T030000
END:STANDARD
END:VTIMEZONE
BEGIN:VEVENT
DTSTART;TZID=America/Asuncion:20241202T070000
DTEND;TZID=America/Asuncion:20241202T170000
DTSTAMP:20260425T221853
CREATED:20241029T144100Z
LAST-MODIFIED:20241029T144100Z
UID:8404-1733122800-1733158800@cemta.uep.edu.py
SUMMARY:Audiciones Facultad de Música
DESCRIPTION:
URL:https://cemta.uep.edu.py/evento/audiciones-facultad-de-musica/
ATTACH;FMTTYPE=image/jpeg:https://cemta.uep.edu.py/wp-content/uploads/2024/10/Audiciones_Web-2.jpg
END:VEVENT
BEGIN:VEVENT
DTSTART;TZID=America/Asuncion:20241202T190000
DTEND;TZID=America/Asuncion:20241202T220000
DTSTAMP:20260425T221853
CREATED:20241029T172452Z
LAST-MODIFIED:20241128T144701Z
UID:8414-1733166000-1733176800@cemta.uep.edu.py
SUMMARY:Graduación Conjunta 30 Años UEP
DESCRIPTION:
URL:https://cemta.uep.edu.py/evento/graduacion-conjunta-30-anos-uep/
ATTACH;FMTTYPE=image/jpeg:https://cemta.uep.edu.py/wp-content/uploads/2024/10/IMG_4943-scaled.jpg
END:VEVENT
END:VCALENDAR